BEGIN:VCALENDAR
VERSION:2.0
PRODID:-//High Point Academy - ECPv6.15.20//NONSGML v1.0//EN
CALSCALE:GREGORIAN
METHOD:PUBLISH
X-ORIGINAL-URL:https://hpaspart.com/betatest
X-WR-CALDESC:Events for High Point Academy
REFRESH-INTERVAL;VALUE=DURATION:PT1H
X-Robots-Tag:noindex
X-PUBLISHED-TTL:PT1H
BEGIN:VTIMEZONE
TZID:America/New_York
BEGIN:DAYLIGHT
TZOFFSETFROM:-0500
TZOFFSETTO:-0400
TZNAME:EDT
DTSTART:20240310T070000
END:DAYLIGHT
BEGIN:STANDARD
TZOFFSETFROM:-0400
TZOFFSETTO:-0500
TZNAME:EST
DTSTART:20241103T060000
END:STANDARD
BEGIN:DAYLIGHT
TZOFFSETFROM:-0500
TZOFFSETTO:-0400
TZNAME:EDT
DTSTART:20250309T070000
END:DAYLIGHT
BEGIN:STANDARD
TZOFFSETFROM:-0400
TZOFFSETTO:-0500
TZNAME:EST
DTSTART:20251102T060000
END:STANDARD
BEGIN:DAYLIGHT
TZOFFSETFROM:-0500
TZOFFSETTO:-0400
TZNAME:EDT
DTSTART:20260308T070000
END:DAYLIGHT
BEGIN:STANDARD
TZOFFSETFROM:-0400
TZOFFSETTO:-0500
TZNAME:EST
DTSTART:20261101T060000
END:STANDARD
END:VTIMEZONE
BEGIN:VEVENT
DTSTART;TZID=America/New_York:20250819T080000
DTEND;TZID=America/New_York:20250819T120000
DTSTAMP:20260423T233301
CREATED:20250507T134944Z
LAST-MODIFIED:20250818T154324Z
UID:16284-1755590400-1755604800@hpaspart.com
SUMMARY:MS/HS Picture Day
DESCRIPTION:MS/HS Picture Day
URL:https://hpaspart.com/betatest/event/ms-hs-picture-day/
LOCATION:High Point Academy\, 6655 Pottery Rd\, Spartanburg\, SC\, 29303\, United States
CATEGORIES:Calendar
ATTACH;FMTTYPE=image/jpeg:https://hpaspart.com/betatest/wp-content/uploads/2024/08/calendar_default_image-e1744559883612.jpg
END:VEVENT
BEGIN:VEVENT
DTSTART;TZID=America/New_York:20250818T080000
DTEND;TZID=America/New_York:20250818T120000
DTSTAMP:20260423T233301
CREATED:20250507T134944Z
LAST-MODIFIED:20250818T154324Z
UID:16283-1755504000-1755518400@hpaspart.com
SUMMARY:Elementary Picture Day
DESCRIPTION:Picture day
URL:https://hpaspart.com/betatest/event/elementary-picture-day/
LOCATION:High Point Academy\, 6655 Pottery Rd\, Spartanburg\, SC\, 29303\, United States
CATEGORIES:Calendar
ATTACH;FMTTYPE=image/jpeg:https://hpaspart.com/betatest/wp-content/uploads/2024/08/calendar_default_image-e1744559883612.jpg
END:VEVENT
BEGIN:VEVENT
DTSTART;TZID=America/New_York:20250721T090000
DTEND;TZID=America/New_York:20250721T150000
DTSTAMP:20260423T233301
CREATED:20250507T134943Z
LAST-MODIFIED:20250720T221254Z
UID:16282-1753088400-1753110000@hpaspart.com
SUMMARY:US Sports Camp - Nike Basketball Camp
DESCRIPTION:Nike Basketball Camp Boys/Girls 1st – 8th Grades
URL:https://hpaspart.com/betatest/event/us-sports-camp-nike-basketball-camp/
LOCATION:High Point Academy\, 6655 Pottery Rd\, Spartanburg\, SC\, 29303\, United States
CATEGORIES:Calendar
ATTACH;FMTTYPE=image/jpeg:https://hpaspart.com/betatest/wp-content/uploads/2024/08/calendar_default_image-e1744559883612.jpg
END:VEVENT
BEGIN:VEVENT
DTSTART;TZID=America/New_York:20250623T090000
DTEND;TZID=America/New_York:20250626T120000
DTSTAMP:20260423T233301
CREATED:20250507T134943Z
LAST-MODIFIED:20250626T122212Z
UID:16281-1750669200-1750939200@hpaspart.com
SUMMARY:High Point Academy Basketball Camp
DESCRIPTION:HPA Basketball Camp is for Boys and Girls 1st Grade – 8th Grade.  Players will be drilled daily on shooting\, ball handling\, passing\, rebounding\, and defensive footwork in a realistic\, competitive playing environment. Trainees will compete in 1 on 1\, 2 on 2\, and 3 on 3 before playing 5 on 5.    \nThe Fundamentals and Skills Session will be broken down into six categories:\n1. Ball handling – improve hand speed\, strength\, coordination\, and good ball control\n2. Dribbling – improve dribbling skills and moving with the ball\n3. Passing – develop skills and techniques to be a better passer\n4. Shooting & Moves – improve shooting technique and develop moves off of dribble\n5. Offensive Concepts – set up proper v cuts\, getting open without the ball & setting proper screens\n6. Defensive Concepts – play defense on and off the ball\nIf you have any questions\, please contact:\nCoach Lee Sartor c864-580-0192 or email @  lsartor@hpaspart.org.
URL:https://hpaspart.com/betatest/event/high-point-academy-basketball-camp/
LOCATION:High Point Academy\, 6655 Pottery Rd\, Spartanburg\, SC\, 29303\, United States
CATEGORIES:Calendar
ATTACH;FMTTYPE=image/jpeg:https://hpaspart.com/betatest/wp-content/uploads/2024/08/calendar_default_image-e1744559883612.jpg
END:VEVENT
BEGIN:VEVENT
DTSTART;TZID=America/New_York:20250516T113000
DTEND;TZID=America/New_York:20250516T131000
DTSTAMP:20260423T233301
CREATED:20250507T134943Z
LAST-MODIFIED:20250516T120040Z
UID:16280-1747395000-1747401000@hpaspart.com
SUMMARY:Humane Society Visit sponsored by the Hope Squad
DESCRIPTION:The Humane Society will be coming with animals for students in MS and HS lunches to visit/pet as a Hope Squad outreach activity.
URL:https://hpaspart.com/betatest/event/humane-society-visit-sponsored-by-the-hope-squad/
LOCATION:High Point Academy\, 6655 Pottery Rd\, Spartanburg\, SC\, 29303\, United States
CATEGORIES:Calendar
ATTACH;FMTTYPE=image/jpeg:https://hpaspart.com/betatest/wp-content/uploads/2024/08/calendar_default_image-e1744559883612.jpg
END:VEVENT
BEGIN:VEVENT
DTSTART;TZID=America/New_York:20250515T080000
DTEND;TZID=America/New_York:20250515T130000
DTSTAMP:20260423T233301
CREATED:20250507T180703Z
LAST-MODIFIED:20250515T115842Z
UID:16301-1747296000-1747314000@hpaspart.com
SUMMARY:State Charter School Board Meeting Invited Performance
DESCRIPTION:Students will be performing for the state charter school board at their May Meeting.
URL:https://hpaspart.com/betatest/event/state-charter-school-board-meeting-invited-performance/
LOCATION:SCPCSD Office\, 1824 Barnwell St\, Columbia\, SC\, United States
CATEGORIES:Calendar
ATTACH;FMTTYPE=image/png:https://hpaspart.com/betatest/wp-content/uploads/2025/04/offcampusevent.png
END:VEVENT
BEGIN:VEVENT
DTSTART;TZID=America/New_York:20250513T183000
DTEND;TZID=America/New_York:20250513T200000
DTSTAMP:20260423T233301
CREATED:20250507T134943Z
LAST-MODIFIED:20250512T184042Z
UID:16277-1747161000-1747166400@hpaspart.com
SUMMARY:JV & Varsity Soccer Banquet
DESCRIPTION:We will be having a meal and giving out soccer awards
URL:https://hpaspart.com/betatest/event/jv-varsity-soccer-banquet/
LOCATION:High Point Academy\, 6655 Pottery Rd\, Spartanburg\, SC\, 29303\, United States
CATEGORIES:Calendar
ATTACH;FMTTYPE=image/jpeg:https://hpaspart.com/betatest/wp-content/uploads/2024/08/calendar_default_image-e1744559883612.jpg
END:VEVENT
END:VCALENDAR